BEGIN:VCALENDAR
VERSION:2.0
PRODID:-//eventon.com NONSGML v1.0//EN
CALSCALE:GREGORIAN
METHOD:PUBLISH
BEGIN:VEVENT
UID:69e4d149dab59
DTSTAMP:20260419T125745Z
DTSTART:20260624T013000Z
DTEND:20260624T030000Z
LOCATION:
SUMMARY:AGM
DESCRIPTION:6:30 pm at the 50+ Activity Centre\nhttps://peachlandyachtclub.
 ca/events/agm-rsvp-2/
URL:https://peachlandyachtclub.ca/events/agm-rsvp-2/
END:VEVENT
END:VCALENDAR